BEGIN:VCALENDAR
VERSION:2.0
PRODID:-//wp-events-plugin.com//7.2.3.1//EN
TZID:America/Chicago
X-WR-TIMEZONE:America/Chicago
BEGIN:VEVENT
UID:2073@wisconsinbikefed.org
DTSTART;TZID=America/Chicago:20260321T100000
DTEND;TZID=America/Chicago:20260321T120000
DTSTAMP:20260117T150839Z
URL:https://wisconsinbikefed.org/events/mke-rec-donut-roll-winter-finale-b
 ike-ride/
SUMMARY:MKE REC Donut Roll - Winter Finale bike ride
DESCRIPTION:\nJoin Milwaukee Recreation's Community Bike Club (CBC) as we c
 elebrate the end of the winter season with a 20 mile Donut Roll. This is a
  group ride starting at McCarty Park located at 8214 W Cleveland Ave\, Wes
 t Allis.\n \nPlease bring your own bike in good working condition\, helme
 t\, and water. Also\, please bring spending money if you would like to pa
 rtake in donuts during rest stops at a selection of local bakeries. You ha
 ve to have donuts on a Donut Roll! \;) Just kidding\, donuts are optional!
  :)\n \nThis is a fun\, social\, slow-roll\, no drop ride. All skill leve
 ls are welcome. If the group is large enough we will split into groups. Yo
 u can self-select which group you would like to ride with the morning of t
 he ride.\n \nMeet in the west parking lot of McCarty Park (take Cleveland
  Ave east until it dead ends)\nArrive at 9:30am for the check in\, safety 
 spiel\, gear check\, and group ride etiquette talk\nRoll out at 10:00am sh
 arp!\n \nThis is a free event\, but registration is required.\nPlease reg
 ister online: https://wimilwaukeeweb.myvscloud.com/webtrac/web/splash.html
 \n
ATTACH;FMTTYPE=image/jpeg:https://wisconsinbikefed.org/wp-content/uploads/
 2026/01/received_2095393414144896-scaled.jpeg
CATEGORIES:Community Events
LOCATION:McCarty Park\, 8214 W Cleveland Ave\, West Allis\, WI\, 53219\, Un
 ited States
GEO:42.996229;-88.013071
X-APPLE-STRUCTURED-LOCATION;VALUE=URI;X-ADDRESS=8214 W Cleveland Ave\, West
  Allis\, WI\, 53219\, United States;X-APPLE-RADIUS=100;X-TITLE=McCarty Par
 k:geo:42.996229,-88.013071
END:VEVENT
BEGIN:VTIMEZONE
TZID:America/Chicago
X-LIC-LOCATION:America/Chicago
BEGIN:DAYLIGHT
DTSTART:20260308T030000
TZOFFSETFROM:-0600
TZOFFSETTO:-0500
TZNAME:CDT
END:DAYLIGHT
END:VTIMEZONE
END:VCALENDAR