BEGIN:VCALENDAR
VERSION:2.0
PRODID:-//wp-events-plugin.com//7.2.3.1//EN
TZID:America/Chicago
X-WR-TIMEZONE:America/Chicago
BEGIN:VEVENT
UID:2169@wisconsinbikefed.org
DTSTART;TZID=America/Chicago:20260603T180000
DTEND;TZID=America/Chicago:20260603T194500
DTSTAMP:20260406T165302Z
URL:https://wisconsinbikefed.org/events/motorless-motion-taco-ride/
SUMMARY:Motorless Motion Taco Ride
DESCRIPTION:Come join us at Momo for our Weekly Wednesday Night Taco Ride! 
 We meet at the shop every Wednesday (May-October) at 6pm and roll out arou
 nd 6:15pm. This is a casual paced ride that is about 6-8 miles long. EVERY
 ONE is welcome!\n\nAfterwards we will all meet back at the shop for Happy 
 Hour at Bandit Tacos!\n\nLooking forward to seeing all of you again for an
 other fun year of Bikes and Tacos!
CATEGORIES:Bike Week,Group Rides,Community Events,Family Fun Ride
LOCATION:Motorless Motion Bicycles\, 640 West Washington Avenue\, Madison\,
  WI\, 53703\, United States
GEO:43.068076;-89.394501
X-APPLE-STRUCTURED-LOCATION;VALUE=URI;X-ADDRESS=640 West Washington Avenue\
 , Madison\, WI\, 53703\, United States;X-APPLE-RADIUS=100;X-TITLE=Motorles
 s Motion Bicycles:geo:43.068076,-89.394501
END:VEVENT
BEGIN:VTIMEZONE
TZID:America/Chicago
X-LIC-LOCATION:America/Chicago
BEGIN:DAYLIGHT
DTSTART:20260308T030000
TZOFFSETFROM:-0600
TZOFFSETTO:-0500
TZNAME:CDT
END:DAYLIGHT
END:VTIMEZONE
END:VCALENDAR