BEGIN:VCALENDAR
VERSION:2.0
PRODID:-//wp-events-plugin.com//7.2.3.1//EN
TZID:America/Chicago
X-WR-TIMEZONE:America/Chicago
BEGIN:VEVENT
UID:2092@wisconsinbikefed.org
DTSTART;TZID=America/Chicago:20260628T173000
DTEND;TZID=America/Chicago:20260628T190000
DTSTAMP:20260123T125735Z
URL:https://wisconsinbikefed.org/events/tosa-village-classic-kids-race/
SUMMARY:Tosa Village Classic Kids' Race
DESCRIPTION:Your kids can be part of the WORLD'S LARGEST Kids' Bike Race! K
 ids 12 and under race down State Street with thousands cheering them on du
 ring the Tour of America's Dairyland Tosa Village Classic Bike Race.\nRegi
 ster by June 14\, 2026\, for a guaranteed Kids Race t-shirt in your select
 ed size! Kids’ race entries will be capped this year at 500\, so don’t
  delay\, sign up today. Click below to register.\nRACE:\nSunday\, June 28\
 , 2026—staging begins at 5:30 pm\, races begin at 6:00 pm. Helmets must
  be worn by all kids participating.\nPACKET AND T-SHIRT PICK-UP:\nSunday\,
  June 28\, starting at noon
ATTACH;FMTTYPE=image/jpeg:https://wisconsinbikefed.org/wp-content/uploads/
 2026/01/JP207634-E-JonathansPortraits-scaled.jpg
CATEGORIES:Community Events,Family Fun Ride
LOCATION:The Village of Wauwatosa\, 7603 W State St\, Wauwatosa\, WI\, 5321
 3\, United States
X-APPLE-STRUCTURED-LOCATION;VALUE=URI;X-ADDRESS=7603 W State St\, Wauwatosa
 \, WI\, 53213\, United States;X-APPLE-RADIUS=100;X-TITLE=The Village of Wa
 uwatosa:geo:0,0
END:VEVENT
BEGIN:VTIMEZONE
TZID:America/Chicago
X-LIC-LOCATION:America/Chicago
BEGIN:DAYLIGHT
DTSTART:20260308T030000
TZOFFSETFROM:-0600
TZOFFSETTO:-0500
TZNAME:CDT
END:DAYLIGHT
END:VTIMEZONE
END:VCALENDAR