BEGIN:VCALENDAR
VERSION:2.0
PRODID:-//wp-events-plugin.com//7.2.3.1//EN
TZID:America/Chicago
X-WR-TIMEZONE:America/Chicago
BEGIN:VEVENT
UID:1972@wisconsinbikefed.org
DTSTART;TZID=America/Chicago:20260725T000000
DTEND;TZID=America/Chicago:20260725T000000
DTSTAMP:20260102T225123Z
URL:https://wisconsinbikefed.org/events/wausau-24-mountain-bike-race-2/
SUMMARY:Wausau 24 Mountain Bike Race
DESCRIPTION:The Wausau 24 weekend starts with the Wausau Trail Run for runn
 ing enthusiasts and music for all. Saturday starts all riding events inclu
 ding the 6-\, 12-\, and 24-hour mountain bike races and kids’ races and 
 events. During the course of the weekend\, Dirt Town will have plenty of f
 ood trucks providing food and beverages to the racers and visitors alike. 
 For spectators\, Dirt Town\, Red Bud Road Crossing\, and Checkpoint Charli
 e are great locations to cheer on the racers. Saturday evening\, listen to
  music while drinking beverages from local micro-brew\, Red Eye Brewing Co
 mpany.
ATTACH;FMTTYPE=image/jpeg:https://wisconsinbikefed.org/wp-content/uploads/
 2025/12/W24-Cover.jpg
CATEGORIES:MTB Race
LOCATION:Nine Mile County Forest\, 221700 Red Bud Road\, Wausau\, Wisconsin
 \, 54401\, United States
X-APPLE-STRUCTURED-LOCATION;VALUE=URI;X-ADDRESS=221700 Red Bud Road\, Wausa
 u\, Wisconsin\, 54401\, United States;X-APPLE-RADIUS=100;X-TITLE=Nine Mile
  County Forest:geo:0,0
END:VEVENT
BEGIN:VTIMEZONE
TZID:America/Chicago
X-LIC-LOCATION:America/Chicago
BEGIN:DAYLIGHT
DTSTART:20260308T030000
TZOFFSETFROM:-0600
TZOFFSETTO:-0500
TZNAME:CDT
END:DAYLIGHT
END:VTIMEZONE
END:VCALENDAR