BEGIN:VCALENDAR
VERSION:2.0
PRODID:-//wp-events-plugin.com//7.2.3.1//EN
TZID:America/Chicago
X-WR-TIMEZONE:America/Chicago
BEGIN:VEVENT
UID:2265@wisconsinbikefed.org
DTSTART;TZID=America/Chicago:20260620T080000
DTEND;TZID=America/Chicago:20260620T190000
DTSTAMP:20260418T194517Z
URL:https://wisconsinbikefed.org/events/wems-race-3-levis-trow-100-aka-buz
 zard-buster/
SUMMARY:WEMS Race #3 - Levis Trow 100 (aka Buzzard Buster)
DESCRIPTION:All Day fun and excitement on Levis Mound single track.\n\nChoo
 se your Distance (10 miles with ~500ft climbing per lap)\n\nDay of Race re
 gistration will open at 7:00am and close 20 minutes prior to the start of
  each race.\n\nPre Race Meeting: 10 minutes prior to the start of each ra
 ce.\n\nLONG (100 Mile ~10 laps) – Runs from 8am – 7pm\n\nMID (60 Hour 
 ~6 laps) – Runs from 11am – 6pm\n\nSHORT (30 Mile ~3 laps) – Runs fr
 om 1pm – 5pm\n\nIMPORTANT INFO: Only laps COMPLETED by finish time will
  count.\n\nAwards: Awards to Top Finishers.
CATEGORIES:MTB Race
END:VEVENT
BEGIN:VTIMEZONE
TZID:America/Chicago
X-LIC-LOCATION:America/Chicago
BEGIN:DAYLIGHT
DTSTART:20260308T030000
TZOFFSETFROM:-0600
TZOFFSETTO:-0500
TZNAME:CDT
END:DAYLIGHT
END:VTIMEZONE
END:VCALENDAR