BEGIN:VCALENDAR
VERSION:2.0
PRODID:-//wp-events-plugin.com//7.2.3.1//EN
TZID:America/Chicago
X-WR-TIMEZONE:America/Chicago
BEGIN:VEVENT
UID:2269@wisconsinbikefed.org
DTSTART;TZID=America/Chicago:20260815T080000
DTEND;TZID=America/Chicago:20260815T234500
DTSTAMP:20260418T195035Z
URL:https://wisconsinbikefed.org/events/wems-race-6-thunderdown-in-the-und
 erdown/
SUMMARY:WEMS Race #6 - Thunderdown in the Underdown
DESCRIPTION:This is Wisconsin’s Ultimate Lap! The Iron Bull Epic!\nRide t
 he 37 mile lap or a 13 mile adventure from Prairie Dells over 7 daunting h
 ills to Underdown Lake. This WEMS Series event is held in conjunction with
  the IronBull Underdown Trail Races.\n\nLIVE music\, drinks\, food and fun
 !\nWEMS Underdown Mountain Bike Races\n8:00 AM (Hundred Down)\nLong-dista
 nce Solo: Three (37-Mile) laps completed between 8AM and Midnight for the 
 ultimate 111 Mile challenge. Only a handful have ever successfully complet
 ed the three lap challenge! Riders completing two laps will be scored afte
 r riders completing three laps.\n\n9:00 AM (Thunderdown)\nMid-distance So
 lo: One 37-Mile lap\n\nLong-distance Duo: One 37-Mile lap completed by eac
 h rider both starting at 9AM (NOT a tag team relay!)\n\n9:15 AM (Oktoberf
 est Summit)\nShort-distance Solo: One 13-Mile lap. Finish this and change 
 your shoes by 11:30am and earn a free entry to the Oktoberfest Half-Marath
 on\n\nMid-distance Duo: One 13-Mile lap completed by both riders starting 
 at 9:15AM (NOT a tag team relay!)\n\nLong-distance Team: One 13-Mile lap c
 ompleted by all riders starting at 9:15AM (NOT a tag team relay!)
CATEGORIES:Fat Tire,MTB Race,Community Events
END:VEVENT
BEGIN:VTIMEZONE
TZID:America/Chicago
X-LIC-LOCATION:America/Chicago
BEGIN:DAYLIGHT
DTSTART:20260308T030000
TZOFFSETFROM:-0600
TZOFFSETTO:-0500
TZNAME:CDT
END:DAYLIGHT
END:VTIMEZONE
END:VCALENDAR