BEGIN:VCALENDAR
VERSION:2.0
PRODID:-//wp-events-plugin.com//7.2.3.1//EN
TZID:America/Chicago
X-WR-TIMEZONE:America/Chicago
BEGIN:VEVENT
UID:2154@wisconsinbikefed.org
DTSTART;TZID=America/Chicago:20260307T113000
DTEND;TZID=America/Chicago:20260307T130000
DTSTAMP:20260129T132620Z
URL:https://wisconsinbikefed.org/events/womens-trailside-repair-clinic/
SUMMARY:Women's Trailside Repair Clinic
DESCRIPTION:For all women and non binary riders!  A supportive and inclusi
 ve space to learn essential bike repair skills
CATEGORIES:Community Events
LOCATION:Trek West\, 8108 Mineral Point Rd\, Madison\, WI\, 53719\, United 
 States
GEO:43.061003;-89.525004
X-APPLE-STRUCTURED-LOCATION;VALUE=URI;X-ADDRESS=8108 Mineral Point Rd\, Mad
 ison\, WI\, 53719\, United States;X-APPLE-RADIUS=100;X-TITLE=Trek West:geo
 :43.061003,-89.525004
END:VEVENT
BEGIN:VTIMEZONE
TZID:America/Chicago
X-LIC-LOCATION:America/Chicago
BEGIN:STANDARD
DTSTART:20251102T010000
TZOFFSETFROM:-0500
TZOFFSETTO:-0600
TZNAME:CST
END:STANDARD
END:VTIMEZONE
END:VCALENDAR